BEGIN:VCALENDAR
VERSION:2.0
PRODID:-//Kutsinhira Cultural Arts - ECPv6.15.20//NONSGML v1.0//EN
CALSCALE:GREGORIAN
METHOD:PUBLISH
X-ORIGINAL-URL:https://kutsinhira.org
X-WR-CALDESC:Events for Kutsinhira Cultural Arts
REFRESH-INTERVAL;VALUE=DURATION:PT1H
X-Robots-Tag:noindex
X-PUBLISHED-TTL:PT1H
BEGIN:VTIMEZONE
TZID:America/Los_Angeles
BEGIN:DAYLIGHT
TZOFFSETFROM:-0800
TZOFFSETTO:-0700
TZNAME:PDT
DTSTART:20220313T100000
END:DAYLIGHT
BEGIN:STANDARD
TZOFFSETFROM:-0700
TZOFFSETTO:-0800
TZNAME:PST
DTSTART:20221106T090000
END:STANDARD
BEGIN:DAYLIGHT
TZOFFSETFROM:-0800
TZOFFSETTO:-0700
TZNAME:PDT
DTSTART:20230312T100000
END:DAYLIGHT
BEGIN:STANDARD
TZOFFSETFROM:-0700
TZOFFSETTO:-0800
TZNAME:PST
DTSTART:20231105T090000
END:STANDARD
BEGIN:DAYLIGHT
TZOFFSETFROM:-0800
TZOFFSETTO:-0700
TZNAME:PDT
DTSTART:20240310T100000
END:DAYLIGHT
BEGIN:STANDARD
TZOFFSETFROM:-0700
TZOFFSETTO:-0800
TZNAME:PST
DTSTART:20241103T090000
END:STANDARD
END:VTIMEZONE
BEGIN:VEVENT
DTSTART;TZID=America/Los_Angeles:20230603T140000
DTEND;TZID=America/Los_Angeles:20230603T160000
DTSTAMP:20260423T210653
CREATED:20230509T202338Z
LAST-MODIFIED:20230509T202338Z
UID:3086-1685800800-1685808000@kutsinhira.org
SUMMARY:Kwaziwai and Raices de Oregon
DESCRIPTION:Enjoy the rhythms\, sights and sounds of Mexico and Zimbabwe in downtown Eugene. Kwaziwai will present Zimabwean marimba and Raices will present regional Mexican dances.  We are excited to collaborate with a sister cultural arts program that includes the marimba in its sound. \nSponsored by City of Eugene Cultural Services Downtown Program Fund  \n 
URL:https://kutsinhira.org/event/kwaziwai-and-raices-de-oregon/
LOCATION:Kesey Square\, Broadway and Willamette\, Eugene
CATEGORIES:Performance
END:VEVENT
BEGIN:VEVENT
DTSTART;TZID=America/Los_Angeles:20230609T180000
DTEND;TZID=America/Los_Angeles:20230609T200000
DTSTAMP:20260423T210653
CREATED:20230530T172058Z
LAST-MODIFIED:20230604T215042Z
UID:3097-1686333600-1686340800@kutsinhira.org
SUMMARY:Jenaguru and Chiedza at Farmers Market Pavilion
DESCRIPTION:Jenaguru Full Moon marimba will share the stage with Kutsinhira’s advance marimba class at the shiny new Farmers Market Pavillion in downtown Eugene.  Come for a lovely evening of Zimababwean marimba al fresco downtown. \nSponsored by City of Eugene Cultural Services Downtown Program Fund.   \n  \n  \n 
URL:https://kutsinhira.org/event/jenaguru-and-friends-at-farmers-market-pavilion/
LOCATION:Farmers Market Pavillion\, 85 E. 8th Avenue\, Eugene\, Oregon\, 97405
END:VEVENT
BEGIN:VEVENT
DTSTART;TZID=America/Los_Angeles:20230611T134500
DTEND;TZID=America/Los_Angeles:20230611T144500
DTSTAMP:20260423T210653
CREATED:20230530T173522Z
LAST-MODIFIED:20230604T215002Z
UID:3101-1686491100-1686494700@kutsinhira.org
SUMMARY:Jenaguru at Friendly Park Celebration
DESCRIPTION:Jenaguru Full Moon Marimba will perform for the Friendly Area Neighborhood association’s Friendly Park Little Free Library Kiosk Celebration
URL:https://kutsinhira.org/event/3101/
LOCATION:Friendly Park\, 2745 Monroe Street\, Eugene\, Oregon\, 97405
END:VEVENT
BEGIN:VEVENT
DTSTART;VALUE=DATE:20230624
DTEND;VALUE=DATE:20230626
DTSTAMP:20260423T210653
CREATED:20230604T215622Z
LAST-MODIFIED:20230604T215622Z
UID:3107-1687564800-1687737599@kutsinhira.org
SUMMARY:Annual Yard Sale Fundraiser
DESCRIPTION:The Annual Kutsinhira Yard Sale will be held at Village School (in the walkways in front of the Center) on Saturday\, June 24 from 8-4 and Sunday\, June 25 from 11-3. The day to drop off your donations is Friday\, June 23 from 12-5 at the Center. Contact Lynne (541-912-1091) if you need to make arrangements for a different time. \nIf you are cleaning out your garage\, your jewelry box\, your storage facility\, we would love to have your good quality furniture\, kitchen and household items\, any kind of jewelry\, sports equipment\, garden equipment\, outdoor gear and treasured heirlooms. Items should be in good/saleable condition. No clothing unless it is a unique and very interesting item (cowboy hats\, antique wedding dresses\, for example). \nIf you have an especially valuable item (a bike\, for example\, or high end sports equipment or valuable antique) contact Gary at 541-337-3281 at any time prior to the sale as we may sell that item separately. \nIf you are interested in volunteering to work at the sale\, contact Lynne at 541-912-1091. We’ll also be sending out a call for volunteers closer to the event. This is a fun event\, and we welcome new Kutsinhira members–jobs range from putting up posters near the center\, pricing merchandise\, taking payments\, keeping merchandise organized\, setting up\, breaking down and much more! \nProceeds go to Kutsinhira with the exception of the high-ticket items referenced above–the profits from these items are allotted to the Zimbabwean Community Development Fund for projects we help fund in Zimbabwe such as well building\, toilets\, huts\, food security\, and school fees. \nThanks for pitching in!
URL:https://kutsinhira.org/event/annual-yard-sale-fundraiser/
LOCATION:The Village School\, 3411 Willamette Street\, Eugene\, OR\, 97405
END:VEVENT
END:VCALENDAR