BEGIN:VCALENDAR
VERSION:2.0
PRODID:-//Kutsinhira Cultural Arts - ECPv6.15.20//NONSGML v1.0//EN
CALSCALE:GREGORIAN
METHOD:PUBLISH
X-WR-CALNAME:Kutsinhira Cultural Arts
X-ORIGINAL-URL:https://kutsinhira.org
X-WR-CALDESC:Events for Kutsinhira Cultural Arts
REFRESH-INTERVAL;VALUE=DURATION:PT1H
X-Robots-Tag:noindex
X-PUBLISHED-TTL:PT1H
BEGIN:VTIMEZONE
TZID:America/Los_Angeles
BEGIN:DAYLIGHT
TZOFFSETFROM:-0800
TZOFFSETTO:-0700
TZNAME:PDT
DTSTART:20220313T100000
END:DAYLIGHT
BEGIN:STANDARD
TZOFFSETFROM:-0700
TZOFFSETTO:-0800
TZNAME:PST
DTSTART:20221106T090000
END:STANDARD
BEGIN:DAYLIGHT
TZOFFSETFROM:-0800
TZOFFSETTO:-0700
TZNAME:PDT
DTSTART:20230312T100000
END:DAYLIGHT
BEGIN:STANDARD
TZOFFSETFROM:-0700
TZOFFSETTO:-0800
TZNAME:PST
DTSTART:20231105T090000
END:STANDARD
BEGIN:DAYLIGHT
TZOFFSETFROM:-0800
TZOFFSETTO:-0700
TZNAME:PDT
DTSTART:20240310T100000
END:DAYLIGHT
BEGIN:STANDARD
TZOFFSETFROM:-0700
TZOFFSETTO:-0800
TZNAME:PST
DTSTART:20241103T090000
END:STANDARD
END:VTIMEZONE
BEGIN:VEVENT
DTSTART;TZID=America/Los_Angeles:20230707T110000
DTEND;TZID=America/Los_Angeles:20230707T130000
DTSTAMP:20260423T194959
CREATED:20230619T202510Z
LAST-MODIFIED:20250606T002701Z
UID:3115-1688727600-1688734800@kutsinhira.org
SUMMARY:Kwaziwai at Oregon Country Fair
DESCRIPTION:
URL:https://kutsinhira.org/event/kwaziwai-at-oregon-country-fair/
LOCATION:Oregon Country Fair\, Veneta
CATEGORIES:Performance
ATTACH;FMTTYPE=image/jpeg:https://kutsinhira.org/wp-content/uploads/2023/06/Kwaziwai-Group-2023-tiny.jpg
END:VEVENT
BEGIN:VEVENT
DTSTART;TZID=America/Los_Angeles:20230723T180000
DTEND;TZID=America/Los_Angeles:20230723T190000
DTSTAMP:20260423T194959
CREATED:20230630T180153Z
LAST-MODIFIED:20230630T180153Z
UID:3132-1690135200-1690138800@kutsinhira.org
SUMMARY:Camp Batidza Performance
DESCRIPTION:
URL:https://kutsinhira.org/event/camp-batidza-performance/
LOCATION:Kesey Square\, Broadway and Willamette\, Eugene
CATEGORIES:Performance
END:VEVENT
BEGIN:VEVENT
DTSTART;TZID=America/Los_Angeles:20230730T170000
DTEND;TZID=America/Los_Angeles:20230730T180000
DTSTAMP:20260423T194959
CREATED:20230630T180407Z
LAST-MODIFIED:20230728T153316Z
UID:3134-1690736400-1690740000@kutsinhira.org
SUMMARY:Chapwititi at Friendly Area Picnic
DESCRIPTION:FAN-Picnic-Flyer-Poster-Size-8.5-×-11-in-Final
URL:https://kutsinhira.org/event/chapwititi-at-friendly-area-picnic/
LOCATION:Washington Park\, Eugene
CATEGORIES:Performance
END:VEVENT
END:VCALENDAR