BEGIN:VCALENDAR
VERSION:2.0
PRODID:-//Kutsinhira Cultural Arts - ECPv6.15.20//NONSGML v1.0//EN
CALSCALE:GREGORIAN
METHOD:PUBLISH
X-ORIGINAL-URL:https://kutsinhira.org
X-WR-CALDESC:Events for Kutsinhira Cultural Arts
REFRESH-INTERVAL;VALUE=DURATION:PT1H
X-Robots-Tag:noindex
X-PUBLISHED-TTL:PT1H
BEGIN:VTIMEZONE
TZID:America/Los_Angeles
BEGIN:DAYLIGHT
TZOFFSETFROM:-0800
TZOFFSETTO:-0700
TZNAME:PDT
DTSTART:20230312T100000
END:DAYLIGHT
BEGIN:STANDARD
TZOFFSETFROM:-0700
TZOFFSETTO:-0800
TZNAME:PST
DTSTART:20231105T090000
END:STANDARD
BEGIN:DAYLIGHT
TZOFFSETFROM:-0800
TZOFFSETTO:-0700
TZNAME:PDT
DTSTART:20240310T100000
END:DAYLIGHT
BEGIN:STANDARD
TZOFFSETFROM:-0700
TZOFFSETTO:-0800
TZNAME:PST
DTSTART:20241103T090000
END:STANDARD
BEGIN:DAYLIGHT
TZOFFSETFROM:-0800
TZOFFSETTO:-0700
TZNAME:PDT
DTSTART:20250309T100000
END:DAYLIGHT
BEGIN:STANDARD
TZOFFSETFROM:-0700
TZOFFSETTO:-0800
TZNAME:PST
DTSTART:20251102T090000
END:STANDARD
END:VTIMEZONE
BEGIN:VEVENT
DTSTART;TZID=America/Los_Angeles:20240427T180000
DTEND;TZID=America/Los_Angeles:20240427T213000
DTSTAMP:20260423T085725
CREATED:20240325T174940Z
LAST-MODIFIED:20240418T160418Z
UID:3232-1714240800-1714253400@kutsinhira.org
SUMMARY:Marimba and Zimbabwean Music Extravaganza Fundraiser
DESCRIPTION:Come down to Whirled Pies on Saturday April 27 for a night of high-energy Zimbabwean music featuring Kutsinhira bands Jenaguru and Chiedza\, plus Kudana\, Mudzidzi Mbira and — direct from Seattle — Kondo reNzou! This event benefits Humwe\, The Cosmas Magaya Cultural Arts and Education Centre\, a recipient of funding from Kutsinhira’s Zimbabwe Community Development Project.  \nDoors open at 5:30; music kicks off at 6:00 with Kudana.
URL:https://kutsinhira.org/event/marimba-and-zimbabwean-music-extravaganza-fundraiser/
LOCATION:Whirled Pies\, 199 W. 8th Avenue\, Eugene\, OR\, 97401\, United States
CATEGORIES:Fundraiser,Performance
ATTACH;FMTTYPE=image/jpeg:https://kutsinhira.org/wp-content/uploads/2024/03/Humwe-Fundraiser.jpg
ORGANIZER;CN="Humwe":MAILTO:info@humwe.org
END:VEVENT
END:VCALENDAR