BEGIN:VCALENDAR
VERSION:2.0
PRODID:-//Kutsinhira Cultural Arts - ECPv6.15.20//NONSGML v1.0//EN
CALSCALE:GREGORIAN
METHOD:PUBLISH
X-ORIGINAL-URL:https://kutsinhira.org
X-WR-CALDESC:Events for Kutsinhira Cultural Arts
REFRESH-INTERVAL;VALUE=DURATION:PT1H
X-Robots-Tag:noindex
X-PUBLISHED-TTL:PT1H
BEGIN:VTIMEZONE
TZID:America/Los_Angeles
BEGIN:DAYLIGHT
TZOFFSETFROM:-0800
TZOFFSETTO:-0700
TZNAME:PDT
DTSTART:20230312T100000
END:DAYLIGHT
BEGIN:STANDARD
TZOFFSETFROM:-0700
TZOFFSETTO:-0800
TZNAME:PST
DTSTART:20231105T090000
END:STANDARD
BEGIN:DAYLIGHT
TZOFFSETFROM:-0800
TZOFFSETTO:-0700
TZNAME:PDT
DTSTART:20240310T100000
END:DAYLIGHT
BEGIN:STANDARD
TZOFFSETFROM:-0700
TZOFFSETTO:-0800
TZNAME:PST
DTSTART:20241103T090000
END:STANDARD
BEGIN:DAYLIGHT
TZOFFSETFROM:-0800
TZOFFSETTO:-0700
TZNAME:PDT
DTSTART:20250309T100000
END:DAYLIGHT
BEGIN:STANDARD
TZOFFSETFROM:-0700
TZOFFSETTO:-0800
TZNAME:PST
DTSTART:20251102T090000
END:STANDARD
END:VTIMEZONE
BEGIN:VEVENT
DTSTART;VALUE=DATE:20240601
DTEND;VALUE=DATE:20240603
DTSTAMP:20260423T062829
CREATED:20240521T185454Z
LAST-MODIFIED:20240521T185939Z
UID:3258-1717200000-1717372799@kutsinhira.org
SUMMARY:Annual Yard Sale Fundraiser
DESCRIPTION:Kutsinhira’s annual yard sale is coming Saturday June 1\, 8-4 and Sunday June 2\, 11-3.  This year will feature live marimba music on Saturday at 10\, 12 and 2pm. The sale will include lots of household items\, a barely-used bicycle\, pack and play gear\, appliances\, furniture and much more. Check out the new African arts and crafts acquired in Zimbabwe last year.  All proceeds support Kutsinhira’s educational programs as well as the Zimbabwean Community Development Program\, which funds other organizations doing community-benefit work in Zimbabwe.   \nWe are also accepting returnable bottles and cans in support of our ZCDP funding.
URL:https://kutsinhira.org/event/annual-yard-sale-fundraiser-2/
LOCATION:The Village School\, 3411 Willamette Street\, Eugene\, OR\, 97405
CATEGORIES:Fundraiser
END:VEVENT
END:VCALENDAR