BEGIN:VCALENDAR
VERSION:2.0
PRODID:-//Kutsinhira Cultural Arts - ECPv6.15.20//NONSGML v1.0//EN
CALSCALE:GREGORIAN
METHOD:PUBLISH
X-ORIGINAL-URL:https://kutsinhira.org
X-WR-CALDESC:Events for Kutsinhira Cultural Arts
REFRESH-INTERVAL;VALUE=DURATION:PT1H
X-Robots-Tag:noindex
X-PUBLISHED-TTL:PT1H
BEGIN:VTIMEZONE
TZID:America/Los_Angeles
BEGIN:DAYLIGHT
TZOFFSETFROM:-0800
TZOFFSETTO:-0700
TZNAME:PDT
DTSTART:20230312T100000
END:DAYLIGHT
BEGIN:STANDARD
TZOFFSETFROM:-0700
TZOFFSETTO:-0800
TZNAME:PST
DTSTART:20231105T090000
END:STANDARD
BEGIN:DAYLIGHT
TZOFFSETFROM:-0800
TZOFFSETTO:-0700
TZNAME:PDT
DTSTART:20240310T100000
END:DAYLIGHT
BEGIN:STANDARD
TZOFFSETFROM:-0700
TZOFFSETTO:-0800
TZNAME:PST
DTSTART:20241103T090000
END:STANDARD
BEGIN:DAYLIGHT
TZOFFSETFROM:-0800
TZOFFSETTO:-0700
TZNAME:PDT
DTSTART:20250309T100000
END:DAYLIGHT
BEGIN:STANDARD
TZOFFSETFROM:-0700
TZOFFSETTO:-0800
TZNAME:PST
DTSTART:20251102T090000
END:STANDARD
END:VTIMEZONE
BEGIN:VEVENT
DTSTART;TZID=America/Los_Angeles:20240908T170000
DTEND;TZID=America/Los_Angeles:20240908T180000
DTSTAMP:20260423T025644
CREATED:20240826T171355Z
LAST-MODIFIED:20240826T180712Z
UID:3290-1725814800-1725818400@kutsinhira.org
SUMMARY:Jenaguru Plays Axe Percussion Festival
DESCRIPTION:The AXE Percussion Festival brings together diverse percussion ensembles from the community for interactive performances for all age groups and abilities.  Come out and see all the groups between 1:00 – 7:00.  Kutsinhira’s Jenaguru Full Moon Ensemble will perform 5:00-6:00.
URL:https://kutsinhira.org/event/jenaguru-plays-axe-percussion-festival/
LOCATION:Amazon Park\, Eugene\, Oregon
CATEGORIES:Performance
ATTACH;FMTTYPE=image/jpeg:https://kutsinhira.org/wp-content/uploads/2024/08/axe-percusion-festival-flier-2024.jpg
END:VEVENT
BEGIN:VEVENT
DTSTART;TZID=America/Los_Angeles:20240922T142000
DTEND;TZID=America/Los_Angeles:20240922T150000
DTSTAMP:20260423T025644
CREATED:20240918T212235Z
LAST-MODIFIED:20240918T212235Z
UID:3313-1727014800-1727017200@kutsinhira.org
SUMMARY:Jenaguru plays Welcoming Festival at YMCA
DESCRIPTION:
URL:https://kutsinhira.org/event/jenaguru-plays-welcoming-festival-at-ymca/
LOCATION:Eugene Family YMCA\, Eugene
CATEGORIES:Community Outreach,Performance
END:VEVENT
END:VCALENDAR